BEGIN:VCALENDAR
VERSION:2.0
PRODID:-//Tukios.com/
BEGIN:VEVENT
UID:6cde54f5-2d12-434e-aa53-714c5da14949@www.brownscremationservice.com
DTSTAMP:20260423T021045Z
DTSTART:20260508T170000Z
DTEND:20260508T180000Z
SUMMARY:Celebration of Life
DESCRIPTION:Lunch will be provided.
URL:https://www.brownscremationservice.com/obituaries/robert-frost-2026
LOCATION: 765 24 Rd  Grand Junction CO 81505
GEO:39.1157661;-108.6111614
END:VEVENT
END:VCALENDAR