BEGIN:VCALENDAR
VERSION:2.0
PRODID:-//Tukios.com/
BEGIN:VEVENT
UID:fa6d8849-b594-42fc-9eab-236389d29a40@www.brownscremationservice.com
DTSTAMP:20260421T010958Z
DTSTART:20260502T170000Z
DTEND:20260502T180000Z
SUMMARY:Celebration of Life
DESCRIPTION:
URL:https://www.brownscremationservice.com/obituaries/peg-lawyer
LOCATION:Fellowship Church 765 24 Rd  Grand Junction CO 81505
GEO:39.1157661;-108.6111614
END:VEVENT
END:VCALENDAR